BEGIN:VCALENDAR
VERSION:2.0
PRODID:-//ligeti zentrum - ECPv6.15.20//NONSGML v1.0//EN
CALSCALE:GREGORIAN
METHOD:PUBLISH
X-ORIGINAL-URL:https://ligeti-zentrum.de
X-WR-CALDESC:Veranstaltungen für ligeti zentrum
REFRESH-INTERVAL;VALUE=DURATION:PT1H
X-Robots-Tag:noindex
X-PUBLISHED-TTL:PT1H
BEGIN:VTIMEZONE
TZID:Europe/Berlin
BEGIN:DAYLIGHT
TZOFFSETFROM:+0100
TZOFFSETTO:+0200
TZNAME:CEST
DTSTART:20230326T010000
END:DAYLIGHT
BEGIN:STANDARD
TZOFFSETFROM:+0200
TZOFFSETTO:+0100
TZNAME:CET
DTSTART:20231029T010000
END:STANDARD
BEGIN:DAYLIGHT
TZOFFSETFROM:+0100
TZOFFSETTO:+0200
TZNAME:CEST
DTSTART:20240331T010000
END:DAYLIGHT
BEGIN:STANDARD
TZOFFSETFROM:+0200
TZOFFSETTO:+0100
TZNAME:CET
DTSTART:20241027T010000
END:STANDARD
BEGIN:DAYLIGHT
TZOFFSETFROM:+0100
TZOFFSETTO:+0200
TZNAME:CEST
DTSTART:20250330T010000
END:DAYLIGHT
BEGIN:STANDARD
TZOFFSETFROM:+0200
TZOFFSETTO:+0100
TZNAME:CET
DTSTART:20251026T010000
END:STANDARD
END:VTIMEZONE
BEGIN:VEVENT
DTSTART;TZID=Europe/Berlin:20240929T100000
DTEND;TZID=Europe/Berlin:20240929T160000
DTSTAMP:20260420T200255
CREATED:20241209T121917Z
LAST-MODIFIED:20241209T121917Z
UID:10000044-1727604000-1727625600@ligeti-zentrum.de
SUMMARY:VRobotia @ Harburg Family Day
DESCRIPTION:Harburg Marketing e.V. organisiert zum wiederholten Male den „Harburg Family Day“\, an dem auch am Sonntag die Geschäfte in der Innenstadt geöffnet haben. Mit zahlreichen Aktionen rund um das Thema „Kinder\, Jugend und Familie“ soll ein Angebot für Jung und Alt geschaffen werden. Auch das Team von VRobotia ist auf dem Rathausplatz mit dabei\, um Kindern und Jugendlichen spielerisch MINT-Themen (Mathematik\, Informatik\, Naturwissenschaft und Technik) sowie Robotik näherzubringen. Das Team wird verschiedene interaktive Robotik-Stationen einrichten\, an denen Roboter gebaut oder programmiert werden können.
URL:https://ligeti-zentrum.de/event/vrobotia-harburg-family-day/
LOCATION:Rathausplatz\, Harburger Rathausplatz 1\, Hamburg\, 21073
CATEGORIES:Infostand
ATTACH;FMTTYPE=image/jpeg:https://ligeti-zentrum.de/wp-content/uploads/2024/12/VRobotia-Harburg-Family-Day.jpeg
END:VEVENT
END:VCALENDAR