BEGIN:VCALENDAR
VERSION:2.0
PRODID:-//ligeti zentrum - ECPv6.15.20//NONSGML v1.0//EN
CALSCALE:GREGORIAN
METHOD:PUBLISH
X-WR-CALNAME:ligeti zentrum
X-ORIGINAL-URL:https://ligeti-zentrum.de
X-WR-CALDESC:Veranstaltungen für ligeti zentrum
REFRESH-INTERVAL;VALUE=DURATION:PT1H
X-Robots-Tag:noindex
X-PUBLISHED-TTL:PT1H
BEGIN:VTIMEZONE
TZID:Europe/Berlin
BEGIN:DAYLIGHT
TZOFFSETFROM:+0100
TZOFFSETTO:+0200
TZNAME:CEST
DTSTART:20250330T010000
END:DAYLIGHT
BEGIN:STANDARD
TZOFFSETFROM:+0200
TZOFFSETTO:+0100
TZNAME:CET
DTSTART:20251026T010000
END:STANDARD
BEGIN:DAYLIGHT
TZOFFSETFROM:+0100
TZOFFSETTO:+0200
TZNAME:CEST
DTSTART:20260329T010000
END:DAYLIGHT
BEGIN:STANDARD
TZOFFSETFROM:+0200
TZOFFSETTO:+0100
TZNAME:CET
DTSTART:20261025T010000
END:STANDARD
BEGIN:DAYLIGHT
TZOFFSETFROM:+0100
TZOFFSETTO:+0200
TZNAME:CEST
DTSTART:20270328T010000
END:DAYLIGHT
BEGIN:STANDARD
TZOFFSETFROM:+0200
TZOFFSETTO:+0100
TZNAME:CET
DTSTART:20271031T010000
END:STANDARD
END:VTIMEZONE
BEGIN:VEVENT
DTSTART;TZID=Europe/Berlin:20260513T120000
DTEND;TZID=Europe/Berlin:20260513T190000
DTSTAMP:20260424T214449
CREATED:20260305T152348Z
LAST-MODIFIED:20260415T093205Z
UID:10000714-1778673600-1778698800@ligeti-zentrum.de
SUMMARY:[Off-ICMC] Interaktive Installation: Anouk Kellner - Airchoir inter/reactive
DESCRIPTION:Die begehbare Klanginstallation Airchoir besteht aus acht aufblasbaren Körpern\, die wie lebende Lungen ein- und ausatmen. Sie machen ihre Stimmen durch die Orgelpfeifen hörbar\, mit denen sie verbunden sind. Wie ein Chor fügen sich diese zu einem vielschichtigen Klangfeld zusammen\, das sich mit der Bewegung der Besucher:innen ständig verändert. \nFür Erwachsene\, Jugendliche und Kinder ab 5 Jahren Freies Kommen und Gehen Ohne Anmeldung \n  \nAnouk Kellner\nAnouk Kellner schafft Klanginstallationen\, Kompositionen\, Feldaufnahmen und Klangdokumentationen. Dabei arbeitet sie experimentell mit Texturen. Mit dem Fokus auf Themen wie Klangökonomie und Nostalgie nimmt sie die Hörer:innen mit in die von ihr geschaffenen Soundscapes\, in denen der Sinn für Zeit verloren geht. Ihre jüngsten Arbeiten drehen sich oft um die Pfeifenorgel. Dieses Interesse zeigt sich auch im The Airchoir-Projekt. \n  \nFrequenz__ @ Off-ICMC\nDie Veranstaltung ist eine Kooperation zwischen dem ligeti zentrum und dem Frequenz Festival in Kiel.\nSeit 2018 bringt Frequenz__ experimentelle Musik und audiovisuelle Kunst unter die Menschen. Im Anschluss an das Frequenz-Festival in Kiel präsentieren sie drei spannende Produktionen in Harburg. \n  \n \n  \ngefördert durch: \n        \n  \n  \nÜber die ICMC & Off-ICMC\n\nDie International Computer Music Conference (ICMC) kommt nach Hamburg-Harburg. Seit über 50 Jahren kommen jedes Jahr Künstler:innen\, Musiker:innen und Wissenschaftler:innen aus aller Welt zur ICMC zusammen\, um das Zusammenspiel von Musik mit digitalen Technologien zu erforschen. Vom 11. bis 16. Mai 2026 findet die Off-ICMC statt: das kostenlose Begleitprogramm rund um das Thema „Musik in unserer digitalen Zeit“. Hier geht es zur Programmübersicht. \n\n\nAuch ausgewählte Konzerte\, Workshops und Installationen der Konferenz sind für die Öffentlichkeit zugänglich!
URL:https://ligeti-zentrum.de/event/air-choir/
LOCATION:Planet Harburg\, Herbert-und-Greta-Wehner-Platz\, Hamburg\, 21073
CATEGORIES:Installation,Off-ICMC,Offenes Angebot
ATTACH;FMTTYPE=image/png:https://ligeti-zentrum.de/wp-content/uploads/2026/03/Airchoir-photo-2-@Ethan-Cannaert-scaled.png
END:VEVENT
BEGIN:VEVENT
DTSTART;TZID=Europe/Berlin:20260514T193000
DTEND;TZID=Europe/Berlin:20260514T210000
DTSTAMP:20260424T214449
CREATED:20260305T151632Z
LAST-MODIFIED:20260424T111302Z
UID:10000722-1778787000-1778792400@ligeti-zentrum.de
SUMMARY:[ICMC] Kreative Film- & Medien-Highlights aus der ICMC
DESCRIPTION:Im Kinosaal im ehemaligen Karstadt-Kaufhaus präsentieren wir eine Auswahl aktueller Fixed-Media-Arbeiten von internationalen Teilnehmenden der International Computer Music Conference 2026. Es erwarten Dich unterschiedliche kreative Film- und Medienbeiträge. \nThe Man in the Mangroves Counts to Sleep (15:07 min)\nEines der Highlights ist der animierte Kurzfilm „The Man in the Mangroves Counts to Sleep”\, der auf dem gleichnamigen Gedicht der Dichterin Donna Decker aus Florida basiert. Ausgangspunkt ist eine reale Begegnung mit einem obdachlosen Mathematiker\, der in Key West\, USA\, in einem Mangrovensumpf lebt. Ausgehend von Decker’s Gedicht entwickelte der Komponist James A. „Andy“ Moorer eine neuartige musikalische Form. Mithilfe digitaler Sprachsynthese verwandelte er die Stimme des Erzählers in eine vielschichtige Klangkomposition – vollständig ohne traditionelle Instrumente. So entstand eine „Opern-Novelle“: ein Werk\, das literarische Erzählung und musikalische Dramaturgie in einer synthetisch erzeugten Klangwelt verbindet. \nWeiteres Programm\nJingyu Luo – Motif for Ono (4:28 min)\nJeffrey T.V. – Usher (10:31 min)\nJoão Pedro Oliveira – Magnarium (9:15)\nDeniz Caglarcan – Itera (7:33 min)\nHaozhe Tan – Within the light cone lies fate ordained (9:24 min)\nLi Pengyun and Guo Jingfan – Pyrography II (6:16 min)\nJustyna Tobera – Spectrestate (8:21 min) \n  \nEine Kooperation mit der Kinemathek Hamburg e.V. \n \n  \nFreies Kommen und Gehen \nDeutsch & Englisch\nEintritt frei\nOhne Anmeldung \n  \nÜber die ICMC & Off-ICMC\n\nDie International Computer Music Conference (ICMC) kommt nach Hamburg-Harburg. Seit über 50 Jahren kommen jedes Jahr Künstler:innen\, Musiker:innen und Wissenschaftler:innen aus aller Welt zur ICMC zusammen\, um das Zusammenspiel von Musik mit digitalen Technologien zu erforschen. Vom 11. bis 16. Mai 2026 findet die Off-ICMC statt: das kostenlose Begleitprogramm rund um das Thema „Musik in unserer digitalen Zeit“. Hier geht es zur Programmübersicht. \n\n\nAuch ausgewählte Konzerte\, Workshops und Installationen der Konferenz sind für die Öffentlichkeit zugänglich!
URL:https://ligeti-zentrum.de/event/icmc-kreative-film-medien-highlights-aus-der-icmc-hamburg-2026/
LOCATION:Planet Harburg\, Herbert-und-Greta-Wehner-Platz\, Hamburg\, 21073
CATEGORIES:Filmvorführung,ICMC,Installation,Off-ICMC
ATTACH;FMTTYPE=image/jpeg:https://ligeti-zentrum.de/wp-content/uploads/2026/03/On-Screen-Still-frame-Title-Only.jpg
END:VEVENT
BEGIN:VEVENT
DTSTART;TZID=Europe/Berlin:20260516T190000
DTEND;TZID=Europe/Berlin:20260516T203000
DTSTAMP:20260424T214449
CREATED:20260416T134927Z
LAST-MODIFIED:20260417T101445Z
UID:10000738-1778958000-1778963400@ligeti-zentrum.de
SUMMARY:Filmscreening: Sisters with Transistors
DESCRIPTION:Zum Abschluss der International Computer Music Conference (ICMC HAMBURG 2026) präsentiert das ligeti zentrum einen Film im Kinoprogramm des Metropolis Kino im Planet Harburg. \nIn Interviews und Anekdoten erzählt die Dokumentation „Sisters with Transistors“ von Lisa Rovner die Geschichte der Pionierinnen der elektronischen Musik – von den 1970er-Jahren bis in die Gegenwart. Der Dokumentarfilm zeigt\, wie visionäre Künstlerinnen die elektronische Musik nachhaltig geprägt und neu definiert haben\, und rückt ihre lange unterrepräsentierte Rolle in den Mittelpunkt. \nEinlass ab 18:30 Uhr\nSprache: OmU\nTickets für 9 € bzw. ermäßigt 6 € unter kinoheld.de \nEine Kooperation mit der Kinemathek Hamburg e.V. \n \nFotocredit: Peggy Weil / Monoduo Films
URL:https://ligeti-zentrum.de/event/filmscreening-sisters-with-transistors/
LOCATION:Planet Harburg\, Herbert-und-Greta-Wehner-Platz\, Hamburg\, 21073
CATEGORIES:Filmvorführung
ATTACH;FMTTYPE=image/jpeg:https://ligeti-zentrum.de/wp-content/uploads/2026/04/SistersWithTransistors_STILL_creditPeggyWeil.jpg
END:VEVENT
END:VCALENDAR