BEGIN:VCALENDAR
VERSION:2.0
PRODID:-//ligeti zentrum - ECPv6.15.20//NONSGML v1.0//EN
CALSCALE:GREGORIAN
METHOD:PUBLISH
X-ORIGINAL-URL:https://ligeti-zentrum.de
X-WR-CALDESC:Veranstaltungen für ligeti zentrum
REFRESH-INTERVAL;VALUE=DURATION:PT1H
X-Robots-Tag:noindex
X-PUBLISHED-TTL:PT1H
BEGIN:VTIMEZONE
TZID:Europe/Berlin
BEGIN:DAYLIGHT
TZOFFSETFROM:+0100
TZOFFSETTO:+0200
TZNAME:CEST
DTSTART:20240331T010000
END:DAYLIGHT
BEGIN:STANDARD
TZOFFSETFROM:+0200
TZOFFSETTO:+0100
TZNAME:CET
DTSTART:20241027T010000
END:STANDARD
BEGIN:DAYLIGHT
TZOFFSETFROM:+0100
TZOFFSETTO:+0200
TZNAME:CEST
DTSTART:20250330T010000
END:DAYLIGHT
BEGIN:STANDARD
TZOFFSETFROM:+0200
TZOFFSETTO:+0100
TZNAME:CET
DTSTART:20251026T010000
END:STANDARD
BEGIN:DAYLIGHT
TZOFFSETFROM:+0100
TZOFFSETTO:+0200
TZNAME:CEST
DTSTART:20260329T010000
END:DAYLIGHT
BEGIN:STANDARD
TZOFFSETFROM:+0200
TZOFFSETTO:+0100
TZNAME:CET
DTSTART:20261025T010000
END:STANDARD
END:VTIMEZONE
BEGIN:VEVENT
DTSTART;TZID=Europe/Berlin:20250608T160000
DTEND;TZID=Europe/Berlin:20250608T180000
DTSTAMP:20260419T225140
CREATED:20250604T105728Z
LAST-MODIFIED:20250604T105728Z
UID:10000094-1749398400-1749405600@ligeti-zentrum.de
SUMMARY:Perspektiven zu Gender\, Arien & modularen Bambusbühnen
DESCRIPTION:Was passiert\, wenn Studierende\, Sänger:innen\, Bambus\, Arien\, elektronische Musik und Migrantpolitan aufeinandertreffen? Herzliche Einladung! Was ist ein utopisches (Musik) Theater der Zukunft? Wie lassen sich neue Orte der Begegnung gestalten? Was könnten nachhaltige Materialien für modulare Bühnen sein – Bambus mit Fahrradschläuchen? Wie performt die Stimme Identität? In einer experimentellen Musiktheaterwerkstatt erforschen Studierende der HfMT Hamburg und der HfBK Dresden Gender und Performance mit Musik\, Text und Gesang. Inspiriert durch Werke von Komponistinnen entstehen innovative Miniszenen zwischen Diskurs und Klangkunst\, die auf einer Bühne aus Bambus aufgeführt werden. \nEine Kooperation der HfMT Hamburg\, der HfBK Dresden und des Sustainable Theater Lab im Rahmen des ligeti zentrums. \nEintritt frei. \nWeitere Informationen hier.
URL:https://ligeti-zentrum.de/event/perspektiven-zu-gender-arien-modularen-bambusbuehnen-3/
LOCATION:Kampnagel\, Jarrestraße 20\, Hamburg\, 22303
CATEGORIES:Performance
END:VEVENT
BEGIN:VEVENT
DTSTART;TZID=Europe/Berlin:20250607T160000
DTEND;TZID=Europe/Berlin:20250607T190000
DTSTAMP:20260419T225140
CREATED:20250604T105644Z
LAST-MODIFIED:20250604T105850Z
UID:10000093-1749312000-1749322800@ligeti-zentrum.de
SUMMARY:Perspektiven zu Gender\, Arien & modularen Bambusbühnen // Public Showing
DESCRIPTION:Was passiert\, wenn Studierende\, Sänger:innen\, Bambus\, Arien\, elektronische Musik und Migrantpolitan aufeinandertreffen? Herzliche Einladung! Was ist ein utopisches (Musik) Theater der Zukunft? Wie lassen sich neue Orte der Begegnung gestalten? Was könnten nachhaltige Materialien für modulare Bühnen sein – Bambus mit Fahrradschläuchen? Wie performt die Stimme Identität? In einer experimentellen Musiktheaterwerkstatt erforschen Studierende der HfMT Hamburg und der HfBK Dresden Gender und Performance mit Musik\, Text und Gesang. Inspiriert durch Werke von Komponistinnen entstehen innovative Miniszenen zwischen Diskurs und Klangkunst\, die auf einer Bühne aus Bambus aufgeführt werden. \nEine Kooperation der HfMT Hamburg\, der HfBK Dresden und des Sustainable Theater Lab im Rahmen des ligeti zentrums. \nDas Public Showing beginnt um 18:00 Uhr. \nEintritt frei. \nWeitere Informationen hier.
URL:https://ligeti-zentrum.de/event/perspektiven-zu-gender-arien-modularen-bambusbuehnen-2/
LOCATION:Kampnagel\, Jarrestraße 20\, Hamburg\, 22303
CATEGORIES:Performance
END:VEVENT
BEGIN:VEVENT
DTSTART;TZID=Europe/Berlin:20250606T160000
DTEND;TZID=Europe/Berlin:20250606T180000
DTSTAMP:20260419T225140
CREATED:20250604T105447Z
LAST-MODIFIED:20250604T105756Z
UID:10000092-1749225600-1749232800@ligeti-zentrum.de
SUMMARY:Perspektiven zu Gender\, Arien & modularen Bambusbühnen
DESCRIPTION:Was passiert\, wenn Studierende\, Sänger:innen\, Bambus\, Arien\, elektronische Musik und Migrantpolitan aufeinandertreffen? Herzliche Einladung! Was ist ein utopisches (Musik) Theater der Zukunft? Wie lassen sich neue Orte der Begegnung gestalten? Was könnten nachhaltige Materialien für modulare Bühnen sein – Bambus mit Fahrradschläuchen? Wie performt die Stimme Identität? In einer experimentellen Musiktheaterwerkstatt erforschen Studierende der HfMT Hamburg und der HfBK Dresden Gender und Performance mit Musik\, Text und Gesang. Inspiriert durch Werke von Komponistinnen entstehen innovative Miniszenen zwischen Diskurs und Klangkunst\, die auf einer Bühne aus Bambus aufgeführt werden. \nEine Kooperation der HfMT Hamburg\, der HfBK Dresden und des Sustainable Theater Lab im Rahmen des ligeti zentrums. \nEintritt frei. \nWeitere Informationen hier.
URL:https://ligeti-zentrum.de/event/perspektiven-zu-gender-arien-modularen-bambusbuehnen/
LOCATION:Kampnagel\, Jarrestraße 20\, Hamburg\, 22303
CATEGORIES:Performance
ATTACH;FMTTYPE=image/jpeg:https://ligeti-zentrum.de/wp-content/uploads/2025/06/Bamboo.jpg
END:VEVENT
END:VCALENDAR