BEGIN:VCALENDAR
VERSION:2.0
PRODID:-//ligeti zentrum - ECPv6.15.20//NONSGML v1.0//EN
CALSCALE:GREGORIAN
METHOD:PUBLISH
X-WR-CALNAME:ligeti zentrum
X-ORIGINAL-URL:https://ligeti-zentrum.de
X-WR-CALDESC:Veranstaltungen für ligeti zentrum
REFRESH-INTERVAL;VALUE=DURATION:PT1H
X-Robots-Tag:noindex
X-PUBLISHED-TTL:PT1H
BEGIN:VTIMEZONE
TZID:Europe/Berlin
BEGIN:DAYLIGHT
TZOFFSETFROM:+0100
TZOFFSETTO:+0200
TZNAME:CEST
DTSTART:20230326T010000
END:DAYLIGHT
BEGIN:STANDARD
TZOFFSETFROM:+0200
TZOFFSETTO:+0100
TZNAME:CET
DTSTART:20231029T010000
END:STANDARD
BEGIN:DAYLIGHT
TZOFFSETFROM:+0100
TZOFFSETTO:+0200
TZNAME:CEST
DTSTART:20240331T010000
END:DAYLIGHT
BEGIN:STANDARD
TZOFFSETFROM:+0200
TZOFFSETTO:+0100
TZNAME:CET
DTSTART:20241027T010000
END:STANDARD
BEGIN:DAYLIGHT
TZOFFSETFROM:+0100
TZOFFSETTO:+0200
TZNAME:CEST
DTSTART:20250330T010000
END:DAYLIGHT
BEGIN:STANDARD
TZOFFSETFROM:+0200
TZOFFSETTO:+0100
TZNAME:CET
DTSTART:20251026T010000
END:STANDARD
BEGIN:DAYLIGHT
TZOFFSETFROM:+0100
TZOFFSETTO:+0200
TZNAME:CEST
DTSTART:20260329T010000
END:DAYLIGHT
BEGIN:STANDARD
TZOFFSETFROM:+0200
TZOFFSETTO:+0100
TZNAME:CET
DTSTART:20261025T010000
END:STANDARD
END:VTIMEZONE
BEGIN:VEVENT
DTSTART;TZID=Europe/Berlin:20251113T140000
DTEND;TZID=Europe/Berlin:20251113T170000
DTSTAMP:20260420T230739
CREATED:20251107T111432Z
LAST-MODIFIED:20251107T111432Z
UID:10000159-1763042400-1763053200@ligeti-zentrum.de
SUMMARY:Workshop: Stimme\, Geste und Künstliche Intelligenz in der Musik @ org_art_lab
DESCRIPTION:Greg Beller ist Komponist\, Forscher und Künstler an der Schnittstelle zwischen Wissenschaft\, Kunst und Technologie. Seine Arbeit erforscht die vielfältigen Beziehungen zwischen Stimme\, Geste\, Raum und musikalischer Komposition. Mit einem besonderen Fokus auf die Verbindung von Körperbewegung und Stimmgestaltung entwickelt er neue Formen der Interaktion und Darstellung in der Musik. \nIn diesem Workshop präsentiert Greg Beller seine aktuellen Forschungsfelder: Sprach- und Stimmverarbeitung\, die Beziehung zwischen Geste und Stimme\, erweiterte und virtuelle Realität\, das Schreiben für Chor\, die unmittelbare musikalische Darstellung sowie die Rolle der Künstlichen Intelligenz in der Komposition. \nEin zentraler Teil des Workshops ist die Vorstellung des Projekts Synekine\, das neue Wege der expressiven Kommunikation zwischen Körper und Klang erforscht\, sowie die Demonstration des Spatial Sampler XR\, eines interaktiven Systems zur immersiven räumlichen Gestaltung von Klang. \nDer Workshop wird durch musikalische Beispiele aus Greg Bellers eigenem Werk illustriert und lädt das Publikum ein\, neue Formen der Wahrnehmung\, Komposition und musikalischen Erfahrung zu entdecken. Der Workshop wird auf Englisch abgehalten. \nZu den Workshops eingeladen sind Organisten\, Komponistinnen und alle\, die sich für neue Musikformen\, innovative Spieltechniken und interdisziplinären Austausch interessieren. \nOrg_Art_Lab ist ein Laboratorium\, in dem die Ingredienzen Kunst\, Wissenschaft und Theologie verschiedenste Verbindungen eingehen. Als Katalysator zur Herstellung von Kompositionen unterschiedlichster Formen dient die Improvisation\, als Laborinstrument die Orgel. \nAnmeldung und weitere Infos hier.
URL:https://ligeti-zentrum.de/event/workshop-stimme-geste-und-kuenstliche-intelligenz-in-der-musik-org_art_lab/
LOCATION:Hauptkirche St.Nikolai\, Harvestehuder Weg 118\, Hamburg\, 20149
CATEGORIES:Workshop
END:VEVENT
BEGIN:VEVENT
DTSTART;TZID=Europe/Berlin:20241115T190000
DTEND;TZID=Europe/Berlin:20241115T190000
DTSTAMP:20260420T230739
CREATED:20241126T135346Z
LAST-MODIFIED:20241210T113706Z
UID:10000024-1731697200-1731697200@ligeti-zentrum.de
SUMMARY:ULTRASCHALL - Epilog zur Ärztekanzel
DESCRIPTION:Kompositionen von Georg Hajdu\, Benjamin Britten\, Heinrich Schütz und Josquin Desprez\nMit der Kantorei St. Nikolai und Studierenden der Musikhochschulen Hamburg und Lübeck\nMatthias Pfeiffer\, Videoperformance | Leitung: Anne Michael \n\n\nGeorg Hajdus Komposition „gemischt und durcheinander“ für 35-stimmigen Chor und Orgel nach einem Text von Hermann von Helmholtz untersucht die Natur von Klang und Geräusch. Die Partitur\, das Ergebnis einer fruchtbaren Zusammenarbeit mit der Organistin und Kirchenmusikerin Anne Michael\, wird dabei von einem zentralen Computer in Echtzeit auf iPads übertragen und vom Choristen und der Orgel umgesetzt. Eingesetzt werden dabei Technologien\, die vom ligeti zentrum entwickelt wurden.
URL:https://ligeti-zentrum.de/event/ultraschall-epilog-zur-aerztekanzel/
LOCATION:Hauptkirche St.Nikolai\, Harvestehuder Weg 118\, Hamburg\, 20149
CATEGORIES:Konzert
END:VEVENT
BEGIN:VEVENT
DTSTART;TZID=Europe/Berlin:20241106T140000
DTEND;TZID=Europe/Berlin:20241106T180000
DTSTAMP:20260420T230739
CREATED:20241126T135010Z
LAST-MODIFIED:20241129T133053Z
UID:10000023-1730901600-1730916000@ligeti-zentrum.de
SUMMARY:Healing Soundscapes: Echtzeit- Partituren\, Emotionen\, musikalische Charaktere
DESCRIPTION:Healing Soundscapes sind gesundheitsfördernde Klangwelten\, die unter dem Einfluss von künstlerisch und räumlich gestalteten Musical Soundscape Interventions (MSI) entstehen. Das Projekt „Healing Soundscapes“ entwickelt und erforscht räumliche Klanginterventionen für sensible Krankenhausbereiche in Zusammenarbeit mit dem UKE. Ziel ist es\, die Klangumgebung (das „Soundscape“) so zu gestalten\, dass das Wohlbefinden von Patienten und Personal in den Räumen verbessert wird. \n14:00 – 18:00 Uhr: Workshop und Proben mit Prof. Dr. Georg Hajdu (Multimediakomposition\, Hochschule für Musik und Theater\, Hamburg) \n20:00 Uhr: Vortrag im Rahmen der Ärztekanzel “Klangvoll aus der Depression” und Aufführung \nGeorg Hajdu stellt seine Arbeiten im Projekt “Healing Soundscapes” vor und wird mit den Teilnehmer:innen auf Basis des vorhandenen Materials Musik erarbeiten. Dabei werden Echtzeit-Partituren auf iPads zum Einsatz kommen\, wie sie bereits beim Projekt Symphonie im St. Pauli Elbtunnel verwendet wurden. \nDie Teilnehmer:innen erwarten aufschlussreiche Einsichten in das “Healing Soundscapes” – Projekt und ein einmaliges Musikerlebnis bei der Umsetzung der Musik während des Vortrags von Professorin Dr. med. habil. Dr. theol. Dipl. mus. Isgard Ohls\, Professorin für Psychiatrie und Psychotherapie an der MSH Medical School Hamburg.
URL:https://ligeti-zentrum.de/event/healing-soundscapes-echtzeit-partituren-emotionen-musikalische-charaktere/
LOCATION:Hauptkirche St.Nikolai\, Harvestehuder Weg 118\, Hamburg\, 20149
CATEGORIES:Vortrag,Workshop
END:VEVENT
END:VCALENDAR