BEGIN:VCALENDAR
VERSION:2.0
PRODID:-//ligeti zentrum - ECPv6.15.20//NONSGML v1.0//EN
CALSCALE:GREGORIAN
METHOD:PUBLISH
X-ORIGINAL-URL:https://ligeti-zentrum.de
X-WR-CALDESC:Veranstaltungen für ligeti zentrum
REFRESH-INTERVAL;VALUE=DURATION:PT1H
X-Robots-Tag:noindex
X-PUBLISHED-TTL:PT1H
BEGIN:VTIMEZONE
TZID:Europe/Berlin
BEGIN:DAYLIGHT
TZOFFSETFROM:+0100
TZOFFSETTO:+0200
TZNAME:CEST
DTSTART:20240331T010000
END:DAYLIGHT
BEGIN:STANDARD
TZOFFSETFROM:+0200
TZOFFSETTO:+0100
TZNAME:CET
DTSTART:20241027T010000
END:STANDARD
BEGIN:DAYLIGHT
TZOFFSETFROM:+0100
TZOFFSETTO:+0200
TZNAME:CEST
DTSTART:20250330T010000
END:DAYLIGHT
BEGIN:STANDARD
TZOFFSETFROM:+0200
TZOFFSETTO:+0100
TZNAME:CET
DTSTART:20251026T010000
END:STANDARD
BEGIN:DAYLIGHT
TZOFFSETFROM:+0100
TZOFFSETTO:+0200
TZNAME:CEST
DTSTART:20260329T010000
END:DAYLIGHT
BEGIN:STANDARD
TZOFFSETFROM:+0200
TZOFFSETTO:+0100
TZNAME:CET
DTSTART:20261025T010000
END:STANDARD
END:VTIMEZONE
BEGIN:VEVENT
DTSTART;TZID=Europe/Berlin:20250204T160000
DTEND;TZID=Europe/Berlin:20250204T180000
DTSTAMP:20260420T000655
CREATED:20250204T130142Z
LAST-MODIFIED:20250204T130142Z
UID:10000048-1738684800-1738692000@ligeti-zentrum.de
SUMMARY:ligeti zentrum @ Town Hall Meeting Wissenschaftshafen Madgeburg
DESCRIPTION:Das Team des Magdeburger Projekts transSCAPE/transPORT möchte beim Town Hall Meeting im Dialog mit der Öffentlichkeit ein inspirierendes Kulturprogramm für den Wissenschaftshafen Magdeburg erarbeiten. Dabei steht die zentrale Frage im Fokus: Welche kulturellen Veranstaltungen und Aktivitäten können das Potenzial des Wissenschaftshafens als Wissens- und Kulturspeicher optimal ausschöpfen? \nDas ligeti zentrum ist eingeladen\, mitzudiskutieren und seine Erfahrungen aus Hamburg einzubringen. Neben einem InfoPoint zu den Projekten und Formaten des ligeti zentrums hält Prof. Dr. Georg Hajdu eine Keynote zum Teilvorhaben Healing Soundscapes. Mehr zur Veranstaltung auf der Website der Organisator:innen. \nDie Teilnahme am Town Hall Meeting ist kostenfrei. Melden Sie sich ganz einfach über Eventbrite an oder schreiben Sie den Veranstaltern eine E-Mail an transscape@ovgu.de. Für Teilnehmende mit Kindern wird die Möglichkeit einer Kinderbetreuung im Eltern-Kind-Zimmer des Forschungscampus STIMULATE angeboten.
URL:https://ligeti-zentrum.de/event/ligeti-zentrum-town-hall-meeting-wissenschaftshafen-madgeburg/
LOCATION:Forschungscampus STIMULATE | Wissenschaftshafen Magdeburg\, Otto-Hahn-Straße 2\, Magdeburg\, 39106
CATEGORIES:Diskussion,Infostand,Vortrag
END:VEVENT
END:VCALENDAR