BEGIN:VCALENDAR
VERSION:2.0
PRODID:-//ligeti zentrum - ECPv6.15.20//NONSGML v1.0//EN
CALSCALE:GREGORIAN
METHOD:PUBLISH
X-ORIGINAL-URL:https://ligeti-zentrum.de
X-WR-CALDESC:Veranstaltungen für ligeti zentrum
REFRESH-INTERVAL;VALUE=DURATION:PT1H
X-Robots-Tag:noindex
X-PUBLISHED-TTL:PT1H
BEGIN:VTIMEZONE
TZID:Europe/Berlin
BEGIN:DAYLIGHT
TZOFFSETFROM:+0100
TZOFFSETTO:+0200
TZNAME:CEST
DTSTART:20240331T010000
END:DAYLIGHT
BEGIN:STANDARD
TZOFFSETFROM:+0200
TZOFFSETTO:+0100
TZNAME:CET
DTSTART:20241027T010000
END:STANDARD
BEGIN:DAYLIGHT
TZOFFSETFROM:+0100
TZOFFSETTO:+0200
TZNAME:CEST
DTSTART:20250330T010000
END:DAYLIGHT
BEGIN:STANDARD
TZOFFSETFROM:+0200
TZOFFSETTO:+0100
TZNAME:CET
DTSTART:20251026T010000
END:STANDARD
BEGIN:DAYLIGHT
TZOFFSETFROM:+0100
TZOFFSETTO:+0200
TZNAME:CEST
DTSTART:20260329T010000
END:DAYLIGHT
BEGIN:STANDARD
TZOFFSETFROM:+0200
TZOFFSETTO:+0100
TZNAME:CET
DTSTART:20261025T010000
END:STANDARD
END:VTIMEZONE
BEGIN:VEVENT
DTSTART;TZID=Europe/Berlin:20250518T193000
DTEND;TZID=Europe/Berlin:20250518T220000
DTSTAMP:20260420T070250
CREATED:20250415T101130Z
LAST-MODIFIED:20250415T101130Z
UID:10000082-1747596600-1747605600@ligeti-zentrum.de
SUMMARY:Decoder Ensemble @ Internationales Musikfest Hamburg: Future Recognition
DESCRIPTION:Das Decoder Ensemble präsentiert im Rahmen des Internationalen Musikfests Hamburg ein innovatives Konzert\, das mit KI-gestützter Musik und multimedialen Elementen die künstlerischen Chancen und Herausforderungen technologischer Entwicklungen auslotet. \nVon März bis Mitte Mai arbeiteten die Komponist:innen von Future Recognition in mehreren Phasen im production lab des ligeti zentrums\, um die Möglichkeiten von 3D-Audio in ihre Kompositionen einzubeziehen. \nTickets und weitere Infos hier.
URL:https://ligeti-zentrum.de/event/decoder-ensemble-internationales-musikfest-hamburg-future-recognition/
LOCATION:Elbphilharmonie\, Platz der Deutschen Einheit 4\, Hamburg\, 20457
CATEGORIES:Konzert
END:VEVENT
END:VCALENDAR