BEGIN:VCALENDAR
VERSION:2.0
PRODID:-//ligeti zentrum - ECPv6.15.20//NONSGML v1.0//EN
CALSCALE:GREGORIAN
METHOD:PUBLISH
X-WR-CALNAME:ligeti zentrum
X-ORIGINAL-URL:https://ligeti-zentrum.de
X-WR-CALDESC:Veranstaltungen für ligeti zentrum
REFRESH-INTERVAL;VALUE=DURATION:PT1H
X-Robots-Tag:noindex
X-PUBLISHED-TTL:PT1H
BEGIN:VTIMEZONE
TZID:Europe/Berlin
BEGIN:DAYLIGHT
TZOFFSETFROM:+0100
TZOFFSETTO:+0200
TZNAME:CEST
DTSTART:20240331T010000
END:DAYLIGHT
BEGIN:STANDARD
TZOFFSETFROM:+0200
TZOFFSETTO:+0100
TZNAME:CET
DTSTART:20241027T010000
END:STANDARD
BEGIN:DAYLIGHT
TZOFFSETFROM:+0100
TZOFFSETTO:+0200
TZNAME:CEST
DTSTART:20250330T010000
END:DAYLIGHT
BEGIN:STANDARD
TZOFFSETFROM:+0200
TZOFFSETTO:+0100
TZNAME:CET
DTSTART:20251026T010000
END:STANDARD
BEGIN:DAYLIGHT
TZOFFSETFROM:+0100
TZOFFSETTO:+0200
TZNAME:CEST
DTSTART:20260329T010000
END:DAYLIGHT
BEGIN:STANDARD
TZOFFSETFROM:+0200
TZOFFSETTO:+0100
TZNAME:CET
DTSTART:20261025T010000
END:STANDARD
END:VTIMEZONE
BEGIN:VEVENT
DTSTART;VALUE=DATE:20250929
DTEND;VALUE=DATE:20251001
DTSTAMP:20260420T071902
CREATED:20250929T110609Z
LAST-MODIFIED:20250929T110909Z
UID:10000127-1759104000-1759276799@ligeti-zentrum.de
SUMMARY:SPIIC+: „transformation“ @ Performing Transformation: Shifting Landscapes in Art\, Science\, and Technology
DESCRIPTION:Das Film-Projekt „transformation“\, bei dem das fünfköpfige SPIIC+ Ensemble im Mittelpunkt steht\, wird im Rahmen der Konferenz Performing Transformation: Shifting Landscapes in Art\, Science\, and Technology an der TU Dresden vom 29.–30. September 2025 präsentiert.\nDas Film-Projekt „transformation“ ist eine explorative Annäherung an das Thema Transformation mit den Mitteln der künstlerischen Forschung. Dabei geht es auch um die dringlichen Fragen unserer Zeit\, wie kollektive Kreativität\, soziale Kompetenz und Verantwortung\, kulturelle und ökologische Ressourcen\, Nachhaltigkeit und die Vision von einer “besseren Zukunft” auf dem Planeten Erde. \n„Die Performativität stellt Wissen in seinen Abhängigkeiten\, Kontexten und Bezügen dar\, ohne dies jedoch direkt reflektieren zu können. Künstlerische und kollaborative Forschungspraktiken können Möglichkeiten bieten\, institutionell produziertes Wissen zu hinterfragen\, zu gestalten und eine kritische und innovative Neubewertung etablierter Normen und Praktiken vorzunehmen. Künstlerische Forschung hat das Potenzial\, die Zusammenhänge von Wissenschaft\, Technologie und Gesellschaft herauszufordern und alternative Zugänge zur Zukunft durch neue Narrative aufzuzeigen.“ \nDie Filmarbeit ist entstanden in einer Kooperation von SPIIC+ Ensemble\, ligeti zentrum\, TU Hamburg\, Hochschule für Musik und Theater (HfMT) und Multi Media Kontor Hamburg (MMKH). WATTwanderungen in Hamburg ist ein Projekt der Hamburg Open Online University (HOOU) an der TU Hamburg und wurde bis Ende 2024 gefördert aus Mitteln des BNE Hamburg Masterplan 2030 der Behörde für Umwelt\, Klima\, Energie und Agrarwirtschaft (BUKEA). \nFoto: Leonie Sens
URL:https://ligeti-zentrum.de/event/spiic-transformation-performing-transformation-2025/
LOCATION:TU Dresden\, Andreas-Pfitzmann-Bau\, Nöthnitzer Str. 46\, Dresden\, 01187
CATEGORIES:Filmvorführung
ATTACH;FMTTYPE=image/jpeg:https://ligeti-zentrum.de/wp-content/uploads/2025/09/performing_transformation_Dresden.jpeg
END:VEVENT
END:VCALENDAR