BEGIN:VCALENDAR
VERSION:2.0
PRODID:-//ligeti zentrum - ECPv6.15.20//NONSGML v1.0//EN
CALSCALE:GREGORIAN
METHOD:PUBLISH
X-WR-CALNAME:ligeti zentrum
X-ORIGINAL-URL:https://ligeti-zentrum.de
X-WR-CALDESC:Veranstaltungen für ligeti zentrum
REFRESH-INTERVAL;VALUE=DURATION:PT1H
X-Robots-Tag:noindex
X-PUBLISHED-TTL:PT1H
BEGIN:VTIMEZONE
TZID:Europe/Berlin
BEGIN:DAYLIGHT
TZOFFSETFROM:+0100
TZOFFSETTO:+0200
TZNAME:CEST
DTSTART:20240331T010000
END:DAYLIGHT
BEGIN:STANDARD
TZOFFSETFROM:+0200
TZOFFSETTO:+0100
TZNAME:CET
DTSTART:20241027T010000
END:STANDARD
BEGIN:DAYLIGHT
TZOFFSETFROM:+0100
TZOFFSETTO:+0200
TZNAME:CEST
DTSTART:20250330T010000
END:DAYLIGHT
BEGIN:STANDARD
TZOFFSETFROM:+0200
TZOFFSETTO:+0100
TZNAME:CET
DTSTART:20251026T010000
END:STANDARD
BEGIN:DAYLIGHT
TZOFFSETFROM:+0100
TZOFFSETTO:+0200
TZNAME:CEST
DTSTART:20260329T010000
END:DAYLIGHT
BEGIN:STANDARD
TZOFFSETFROM:+0200
TZOFFSETTO:+0100
TZNAME:CET
DTSTART:20261025T010000
END:STANDARD
END:VTIMEZONE
BEGIN:VEVENT
DTSTART;TZID=Europe/Berlin:20250823T140000
DTEND;TZID=Europe/Berlin:20251109T180000
DTSTAMP:20260419T165434
CREATED:20250819T132427Z
LAST-MODIFIED:20251028T105123Z
UID:10000117-1755957600-1762711200@ligeti-zentrum.de
SUMMARY:Ausstellung: Céline Mathieu – Nectar
DESCRIPTION:Ausgehend vom Prinzip der Regurgitation – dem Zurückfließen und Weitergeben von Nahrung oder Information – entfaltet Céline Mathieus „Nectar“ eine Choreografie aus Klang\, Text und skulpturalen Elementen. Bestehende Arbeiten erscheinen in neuer Form\, während Beziehungen\, Informationen und Werte in neue Kreisläufe übergehen. \nFür ihre erste Einzelausstellung in Deutschland hat Céline Mathieu mit beratender Unterstützung des ligeti zentrums die Präsentation eines besonderen Ausstellungsobjekts entwickelt: Ein sich bewegender Roboterarm hält das Objekt und setzt es durch frei programmierbare Bewegungen präzise in Szene. \nEine Kooperation mit dem Kunstverein Harburger Bahnhof. \nVernissage am 22.08.2025 um 19:00 Uhr.\nÖffnungszeiten der Ausstellung: Mittwoch bis Sonntag von 14 – 18 Uhr.\nEintritt frei.
URL:https://ligeti-zentrum.de/event/ausstellung-celine-mathieu-nectar/
LOCATION:Kunstverein Harburger Bahnhof\, Hannoversche Straße 85\, Im Fernbahnhof über Gleis 3&4\, Hamburg
CATEGORIES:Ausstellung
ATTACH;FMTTYPE=image/jpeg:https://ligeti-zentrum.de/wp-content/uploads/2025/08/Getty_Image_Vampire_Bat_blank_thumb_large.jpg
END:VEVENT
BEGIN:VEVENT
DTSTART;TZID=Europe/Berlin:20251017T160000
DTEND;TZID=Europe/Berlin:20251017T173000
DTSTAMP:20260419T165434
CREATED:20250916T124339Z
LAST-MODIFIED:20250916T125058Z
UID:10000119-1760716800-1760722200@ligeti-zentrum.de
SUMMARY:VRobotia @ Code Week: Einstieg in die Elektronik (Bücherhalle Neugraben)
DESCRIPTION:Vom 11. bis 26. Oktober findet in Hamburg wieder die Code Week statt. Mit künstlicher Intelligenz Musik kreieren\, gemeinsam blinkende Alpakas bauen\, in Hackathons eigene Ideen verwirklichen… bei der Code Week Hamburg können Kinder und Jugendliche mit Hard- und Software kreativ werden und entdecken\, wie viel sie mit digitalen Skills selbst bewegen können. Das Projekt VRobotia des ligeti zentrums trägt mit mehreren Workshops zum vielseitigen Programm bei. \nElektronik begegnet uns überall im Alltag: Wenn wir das Licht einschalten\, fernsehen oder unser Handy laden. Doch was genau ist Elektronik? Wie fließt Strom? Was ist ein Stromkreis? Und wie kann ich einen Stromkreis so gestalten\, dass ich LEDs zum Leuchten bringe oder sogar einen kleinen Motor in Gang bringe? In diesem praxisnahen Workshop von VRobotia können Kinder die Grundlagen von Elektronik kennenlernen. Durch praktisches Lernen werden technische Zusammenhänge verständlich gemacht und die Kreativität gefördert. \nIn diesem Workshop können Kinder von 5 – 12 Jahren die Grundlagen von Elektronik lernen. \nAnmeldung über die Website der Bücherhalle Neugraben.\nDie Teilnahme ist kostenlos.
URL:https://ligeti-zentrum.de/event/vrobotia-code-week-einstieg-in-die-elektronik/
LOCATION:Bücherhalle Neugraben\, Neugrabener Markt 7\, Hamburg\, 21149
CATEGORIES:Workshop
ATTACH;FMTTYPE=image/jpeg:https://ligeti-zentrum.de/wp-content/uploads/2025/09/csm_VRobotia_Bild_affb7fb4aa.jpg
END:VEVENT
BEGIN:VEVENT
DTSTART;TZID=Europe/Berlin:20251017T190000
DTEND;TZID=Europe/Berlin:20251017T210000
DTSTAMP:20260419T165434
CREATED:20250925T113030Z
LAST-MODIFIED:20250925T114506Z
UID:10000123-1760727600-1760734800@ligeti-zentrum.de
SUMMARY:Happy Endings: Zusammenbruch und Zuversicht
DESCRIPTION:Vieles deutet auf einen Zusammenbruch unserer wirtschaftlichen und politischen Systeme noch in diesem Jahrhundert hin. Gemäß dem Slogan »Das Ende der Welt ist\, was wir daraus machen« spricht die Bildungswissenschaftlerin Dr. Ginie Servant-Miklos in ihrer Lecture über Pfadabhängigkeiten in der Bildung\, fragt nach einer neuen Pädagogik angesichts des drohenden Kollapses und fordert ein radikal neues Lernen. Bildung und Kunst werden oft als Möglichkeiten gesehen\, einen kulturellen Wandel in unserem Verhältnis zum Planeten herbeizuführen. Trotz unzähliger Kunstprojekte und Bildungsinitiativen müssen wir heute anerkennen: Es hat sich wenig verändert. Vielleicht haben Bildung und Kunst sogar mehr Anteil an unserer Situation\, als wir uns eingestehen wollen. Der belgische Künstler und Aktivist Christophe Meierhans\, Dr. Ginie Servant-Miklos und Dramaturg Christian Tschirner diskutieren über die Frage\, was wir ändern müssen und woher – trotz allem – Zuversicht kommen kann. \nIn »Der Tag\, an dem Elisabeth Kübler-Ross Diego Armando Maradona trifft« erzählt der argentinische Künstler Lisandro Rodríguez von einer fiktiven Begegnung zwischen der Sterbeforscherin und dem Fußballer\, zwischen der Meisterin der Akzeptanz und dem Verdrängungsspezialisten. Ist es besser\, den Tod zu akzeptieren und das Leben zu verdrängen oder das Leben zu akzeptieren und den Tod zu verdrängen? Die Autorin und Trauerrednerin Louise Brown schließt den Abend mit einer Trauercollage: Wie lieben und leben\nwir? Wie lassen wir los? Auch an diesem Abend: Trauertücher färben mit Ella Ziegler. \nVon und mit: Louise Brown\, Christophe Meierhans\, Dr. Ginie Servant-Miklos\, Lisandro Rodríguez\, Christian Tschirner\, Ella Ziegler \nEine Veranstaltung im Rahmen von „Happy Endings“. Ein Symposium zu palliativer Dramaturgie.\nUnsere Lebens- und Wirtschaftsweise stößt an planetare Grenzen. Liebgewonnene Gewissheiten erodieren. Und die Kommunikation hierüber steckt in einem Dilemma: Betonen wir die Fakten zum Stand der Dinge\, laufen wir Gefahr\, Hoffnungslosigkeit und gesellschaftliche Lähmung zu befeuern. Verlegen wir uns darauf\, über die kleinen Schritte in die richtige Richtung zu sprechen\, verharmlosen wir die Situation. Beides hilft nicht weiter. Frei nach Heiner Müllers Diktum „Nekrophilie ist Liebe zur Zukunft!“ versucht die palliative Dramaturgie die Zukunft vom Ende her zu denken. Sie übersetzt Erfahrungen aus Sterbebegleitung und Trauerarbeit in gesellschaftliche Erzählungen. Denn nicht nur Individuen\, auch Gesellschaften haben ein Verfallsdatum. Doch gibt es einen Zusammenhang zwischen persönlicher Trauer und dem Trauern über den Verlust der Welt? Und wenn ja\, wie kommen wir dazu\, unsere Situation zu akzeptieren? Schließlich ist gemäß der Palliativmedizin erst in der Phase der Akzeptanz sinnvolles Handeln wieder möglich. Expert*innen der Palliativmedizin\, der Soziologie\, der Bildungs-und Kulturwissenschaft gehen durch die Korridore unseres Verstandes\, konfrontieren uns Künstler*innen mit den Dämonen unserer Verleugnung und Verzweiflung\, versöhnen uns Praktiker*innen mit Leben und Tod\, um das Ende der Welt (wie wir es kennen) zu einem Anfang zu machen. \nTickets und weitere Infos hier.
URL:https://ligeti-zentrum.de/event/happy-endings-zusammenbruch-und-zuversicht/
LOCATION:Deutsches Schauspielhaus\, Kirchenallee 39\, Hamburg\, 20099\, Germany
CATEGORIES:Diskussion,Performance,Theater,Vortrag
ATTACH;FMTTYPE=image/jpeg:https://ligeti-zentrum.de/wp-content/uploads/2025/09/Happy-Endings.jpg
END:VEVENT
END:VCALENDAR